BEGIN:VCALENDAR
VERSION:2.0
PRODID:-//Pataskala Rotary - ECPv6.15.20//NONSGML v1.0//EN
CALSCALE:GREGORIAN
METHOD:PUBLISH
X-ORIGINAL-URL:https://pataskalarotary.com
X-WR-CALDESC:Events for Pataskala Rotary
REFRESH-INTERVAL;VALUE=DURATION:PT1H
X-Robots-Tag:noindex
X-PUBLISHED-TTL:PT1H
BEGIN:VTIMEZONE
TZID:America/Detroit
BEGIN:DAYLIGHT
TZOFFSETFROM:-0500
TZOFFSETTO:-0400
TZNAME:EDT
DTSTART:20250309T070000
END:DAYLIGHT
BEGIN:STANDARD
TZOFFSETFROM:-0400
TZOFFSETTO:-0500
TZNAME:EST
DTSTART:20251102T060000
END:STANDARD
BEGIN:DAYLIGHT
TZOFFSETFROM:-0500
TZOFFSETTO:-0400
TZNAME:EDT
DTSTART:20260308T070000
END:DAYLIGHT
BEGIN:STANDARD
TZOFFSETFROM:-0400
TZOFFSETTO:-0500
TZNAME:EST
DTSTART:20261101T060000
END:STANDARD
BEGIN:DAYLIGHT
TZOFFSETFROM:-0500
TZOFFSETTO:-0400
TZNAME:EDT
DTSTART:20270314T070000
END:DAYLIGHT
BEGIN:STANDARD
TZOFFSETFROM:-0400
TZOFFSETTO:-0500
TZNAME:EST
DTSTART:20271107T060000
END:STANDARD
END:VTIMEZONE
BEGIN:VEVENT
DTSTART;TZID=America/Detroit:20260423T073000
DTEND;TZID=America/Detroit:20260423T083000
DTSTAMP:20260421T091230
CREATED:20250418T203117Z
LAST-MODIFIED:20260325T001828Z
UID:793-1776929400-1776933000@pataskalarotary.com
SUMMARY:Meeting
DESCRIPTION:program – Pataskala Mayor Mike Compton
URL:https://pataskalarotary.com/event/meeting-31/
LOCATION:Tri-Village Church\, 7509 Columbus Rd SW\, Pataskala\, OH\, 43062
CATEGORIES:Meeting
END:VEVENT
BEGIN:VEVENT
DTSTART;TZID=America/Detroit:20260430T073000
DTEND;TZID=America/Detroit:20260430T083000
DTSTAMP:20260421T091230
CREATED:20250418T203234Z
LAST-MODIFIED:20260325T001910Z
UID:797-1777534200-1777537800@pataskalarotary.com
SUMMARY:No Meeting
DESCRIPTION:NO MEETING\nLast Thursday
URL:https://pataskalarotary.com/event/no-meeting-11/
CATEGORIES:Meeting
END:VEVENT
BEGIN:VEVENT
DTSTART;TZID=America/Detroit:20260507T073000
DTEND;TZID=America/Detroit:20260507T083000
DTSTAMP:20260421T091230
CREATED:20250418T203153Z
LAST-MODIFIED:20260325T001952Z
UID:795-1778139000-1778142600@pataskalarotary.com
SUMMARY:Meeting
DESCRIPTION:program – Youth Across Borders
URL:https://pataskalarotary.com/event/meeting-32/
LOCATION:Tri-Village Church\, 7509 Columbus Rd SW\, Pataskala\, OH\, 43062
CATEGORIES:Meeting
END:VEVENT
BEGIN:VEVENT
DTSTART;TZID=America/Detroit:20260514T073000
DTEND;TZID=America/Detroit:20260514T083000
DTSTAMP:20260421T091230
CREATED:20250418T203323Z
LAST-MODIFIED:20260325T002037Z
UID:799-1778743800-1778747400@pataskalarotary.com
SUMMARY:Meeting
DESCRIPTION:program – COTC and OSU Newark
URL:https://pataskalarotary.com/event/meeting-33/
LOCATION:Tri-Village Church\, 7509 Columbus Rd SW\, Pataskala\, OH\, 43062
CATEGORIES:Meeting
END:VEVENT
END:VCALENDAR